BEGIN:VCALENDAR
VERSION:2.0
PRODID:-//willkommeningerungs - ECPv6.15.17.1//NONSGML v1.0//EN
CALSCALE:GREGORIAN
METHOD:PUBLISH
X-ORIGINAL-URL:https://www.willkommeningerungs.at
X-WR-CALDESC:Veranstaltungen für willkommeningerungs
REFRESH-INTERVAL;VALUE=DURATION:PT1H
X-Robots-Tag:noindex
X-PUBLISHED-TTL:PT1H
BEGIN:VTIMEZONE
TZID:Europe/Berlin
BEGIN:DAYLIGHT
TZOFFSETFROM:+0100
TZOFFSETTO:+0200
TZNAME:CEST
DTSTART:20160327T010000
END:DAYLIGHT
BEGIN:STANDARD
TZOFFSETFROM:+0200
TZOFFSETTO:+0100
TZNAME:CET
DTSTART:20161030T010000
END:STANDARD
BEGIN:DAYLIGHT
TZOFFSETFROM:+0100
TZOFFSETTO:+0200
TZNAME:CEST
DTSTART:20170326T010000
END:DAYLIGHT
BEGIN:STANDARD
TZOFFSETFROM:+0200
TZOFFSETTO:+0100
TZNAME:CET
DTSTART:20171029T010000
END:STANDARD
BEGIN:DAYLIGHT
TZOFFSETFROM:+0100
TZOFFSETTO:+0200
TZNAME:CEST
DTSTART:20180325T010000
END:DAYLIGHT
BEGIN:STANDARD
TZOFFSETFROM:+0200
TZOFFSETTO:+0100
TZNAME:CET
DTSTART:20181028T010000
END:STANDARD
BEGIN:DAYLIGHT
TZOFFSETFROM:+0100
TZOFFSETTO:+0200
TZNAME:CEST
DTSTART:20190331T010000
END:DAYLIGHT
BEGIN:STANDARD
TZOFFSETFROM:+0200
TZOFFSETTO:+0100
TZNAME:CET
DTSTART:20191027T010000
END:STANDARD
BEGIN:DAYLIGHT
TZOFFSETFROM:+0100
TZOFFSETTO:+0200
TZNAME:CEST
DTSTART:20200329T010000
END:DAYLIGHT
BEGIN:STANDARD
TZOFFSETFROM:+0200
TZOFFSETTO:+0100
TZNAME:CET
DTSTART:20201025T010000
END:STANDARD
END:VTIMEZONE
BEGIN:VEVENT
DTSTART;TZID=Europe/Berlin:20190331T180000
DTEND;TZID=Europe/Berlin:20190331T193000
DTSTAMP:20260424T131856
CREATED:20190707T052135Z
LAST-MODIFIED:20190927T065836Z
UID:10000160-1554055200-1554060600@www.willkommeningerungs.at
SUMMARY:African Spirit - dachor Persenbeug
DESCRIPTION:AFRICAN SPIRIT Gospels\, Pop- und Zulu-Songs \n„dachor Persenbeug“ \nDer künstlerische Leiter Wolfgang Schweiger ist „Herr“ von über 40 Sängerinnen und Sängern. Zudem ist er auch Dirigent von Musikensembles\, die einzelne Programme von „dachor“ unterstützen. \ndachor hat sich in den letzten Jahren mit seinen musikalischen Projekten (siehe unter Repertoire von dachor) – wie z. B. „Musik aus Afrika“\, „Irish Music“\, „Tequila Sunrise“\, „We are from Austria“ und „Pop Classics“ – bei zahlreichen Konzerten und Konzertreisen einen guten Ruf erworben. \nGedenkkonzerte mit Gastmusikern (z. B. Timna Brauer\, Kohelet 3\, Anne Bennent & Otto Lechner)\, die Teilnahme an Benefizkonzerten\, Weihnachtssingen\, oder Singen bei Festen und Feiern ergänzen den musikalischen Jahreskreis von „dachor Persenbeug“. \nKartenverkauf über Ö-Ticket VVK € 10.- / Abendkassa € 12.- \n> dachor Persenbeug AFRICAN SPIRIT – Plakat \n> dachor Persenbeug AFRICAN SPIRIT – Flyer \n  \n\n		\n		\n			\n				\n			\n		\n\nFoto: Herbert Steininger \n  \n  \n  \n 
URL:https://www.willkommeningerungs.at/event/african-spirit-dachor-persenbeug/
LOCATION:Gasthaus Hirsch/Traxler\, Hauptplatz 20\, Groß Gerungs\, NÖ\, 3920\, Österreich
CATEGORIES:2019 Archiv KK,Kabarett und Konzerte
ATTACH;FMTTYPE=image/jpeg:https://www.willkommeningerungs.at/vvs/wp-content/uploads/2019/07/African-Spirt_dachor_Persenbeug_31032019.jpg
END:VEVENT
BEGIN:VEVENT
DTSTART;TZID=Europe/Berlin:20190309T193000
DTEND;TZID=Europe/Berlin:20190309T213000
DTSTAMP:20260424T131856
CREATED:20190706T004351Z
LAST-MODIFIED:20190927T065846Z
UID:10000159-1552159800-1552167000@www.willkommeningerungs.at
SUMMARY:Comedian Vocalists - 20 Jahre Musikkabarett
DESCRIPTION:Comedian Vocalists mit Jubiläums-Best-of in Groß Gerungs\nam 9. März 2019\, um 19.30 Uhr im Gasthaus Hirsch/Traxler \nGute Nachricht für alle\, die die Jubiläumskonzerte der Comedian Vocalists in Stift Zwettl verpasst oder keine Karten mehr dafür bekommen haben. \nAuf vielfachen Wunsch gibt es am 9. März um 19.30 Uhr in Groß Gerungs noch einmal die Möglichkeit ihr Jubiläumsprogramm mit dem Best-of aus 20 Jahren und vielen Liedern der neuen CD „Jetzt oder nie!“ zu hören und zu sehen. \nSeit 1998 widmen sich die Comedian Vocalists der vokalen Musik der 20er- und 30er-Jahre. Ihr bewährtes Erfolgsrezept haben sie seither zum Glück nie angetastet: Man nehme vier altgediente Sängerknaben und vermenge sie mit einem gut abgehangenen Bass\, ehe man vorsichtig einen geschmeidigen Pianisten unterhebe. Man achte darauf\, alle Geschmacksnuancen zu einem glatten Teig (nicht Brei!) zu verrühren\, der umso besser aufgehen wird\, je dichter sich die einzelnen Komponenten miteinander verbinden. Nichts darf aufdringlich hervorstechen: Nicht der hohe Tenor\, nicht der tiefe Bass\, nicht die flinken Tastenspiele des Pianisten\, nicht das mächtige Volumen der Mittellage. Erst gut vermengt entfalten die Zutaten ihre ganze Wirkung und ergänzen sich in wundervoller Harmonie. Stets mit einem guten Schuss Humor\, einer Prise Romantik und mindestens einer Messerspitze Selbstironie abgeschmeckt\, wird die Menüfolge Abend für Abend zu einem Hochgenuss. Und wer glaubt\, die Sechs hätten nach zwanzig Jahren ihr Mindesthaltbarkeitsdatum überschritten\, der irrt sich gewaltig! \nIhre Devise lautet nämlich: „Jetzt oder nie!“ \nKarten gibt es in der Raiffeisenbank Groß Gerungs\, Reservierungen sind telefonisch unter 0664/75121312 oder per Mail an comvoc(at)gmx.at möglich. \nAbendkasse: € 16\,-/ Vorverkauf: € 14\,- / Kinder (bis 12 Jahre): € 10\,-\nFreie Sitzplatzwahl \nComedian Vocalists 20 Jahre – Plakat Groß Gerungs \n  \n  \n 
URL:https://www.willkommeningerungs.at/event/comedian-vocalists-20-jahre-musikkabarett/
LOCATION:Gasthaus Hirsch/Traxler\, Hauptplatz 20\, Groß Gerungs\, NÖ\, 3920\, Österreich
CATEGORIES:2019 Archiv KK,Kabarett und Konzerte
ATTACH;FMTTYPE=image/jpeg:https://www.willkommeningerungs.at/vvs/wp-content/uploads/2019/07/Comedian_Vocalists_09032019.jpg
END:VEVENT
BEGIN:VEVENT
DTSTART;TZID=Europe/Berlin:20180922T200000
DTEND;TZID=Europe/Berlin:20180922T200000
DTSTAMP:20260424T131856
CREATED:20190816T090228Z
LAST-MODIFIED:20191003T092304Z
UID:10000203-1537646400-1537646400@www.willkommeningerungs.at
SUMMARY:Joesi Prokopetz - Gürteltiere brauchen keine Hosenträger
DESCRIPTION:Joesi Prokopetz\nKabarett „Gürteltiere brauchen keine Hosenträger“\nVorpremiere am Sa. 22.09.2018 20 Uhr im GH Hirsch/Traxler Groß Gerungs \nPressefoto Joesi Prokopetz (oben): Gary Milano \nWie der Titel klar sagt\, hat der Abend mit Gürteltieren gar nichts zu tun. Mit Hosenträgern letztlich auch nichts und doch ist der Titel nicht willkürlich gewählt. Warum\, das findet der Zuschauer heraus\, wenn er unter anderem erfährt\, dass das Glück der Glücklichen die Unglücklichen belästigt\, und dass wir Glück haben\, dass heute nicht Sonntag ist\, dass Liebe ein schwammiger Begriff ist und überschätzt wird\, wie es mit dem JA! Natürlich-Schweinderl weitergeht und dass nicht Oida das Wort für fast alles ist\, sondern Schaß und vor allem\, was ein Empörungsblähhals ist… \nDazu neue Couplets übers Parshipen bis zu Superman-Love\, in Musik gesetzt überwiegend von Martin Payr\, der auch diesmal wieder als Pianist („Erfinder des Klaviers“) so segensreich werktätig ist. Dieses 25. Programm zeigt einen gereiften Prokopetz oder zumindest einen\, der sich so gekonnt verstellt\, dass man meinen könnte\, mit 66 Jahren wäre er es\, gereift nämlich. \nDenn vergessen wir nicht: „Es gibt keine Altersweisheit\, es gibt nur Altersschwachsinn.“ (Thomas Bernhard) \nBiografie\nMit „Da Hofa“ hat Joesi Prokopetz 1971 nicht nur Wolfgang Ambros\, sondern auch den Austropop erfunden.\nDanach kamen Hits wie: „Du bist wia die Wintersun“\, „Es lebe der Zentralfriedhof“\, „Die Blume aus dem Gemeindebau“\, „Hoit\, do is a Spoit“\, „Baba und foi net“ und sehr viele mehr.\nEr textet unter anderem für Stefanie Werger und Wilfried. \n1973 entstand die mittlerweile zum Kult avancierte Rustical „Der Watzmann ruft“\, für die Joesi Prokopetz alle Liedtexte geschrieben hat. Auch die Songtexte für „Schaffnerlos“ und das gesamte Libretto zu „Fäustling“ stammen aus seiner Feder. \n1983 – 1984 DÖF – „Popkrone“ für das mit Abstand erfolgreichste österreichische Projekt im Ausland.\n1\,2 Mio. verkaufte Singles\, über 500 000 verkaufte LP’s/CD’s europaweit! „Codo – ich düse im Sauseschritt“\, „Taxi“\, „In der Tierhandlung I-III“\, „Trude – die Teufelstaube“ uvm. \n> Joesi Prokopetz – Flyer \nMehr auf: www.prokopetz.at \nKarten: Vorverkauf € 18\,–\, Ö-Ticket (Banken\, Trafiken\, Libro\, Mediamärkte etc.) sowie www.oeticket.com\, Abendkassa € 20\,– \n  \n\n		\n		\n			\n				\n			\n			\n				\n			\n		\n\nFoto links: Lukas Hinterndorfer\nFoto rechts: Herbert Steininger \n  \n  \n  \n 
URL:https://www.willkommeningerungs.at/event/joesi-prokopetz-guerteltiere-brauchen-keine-hosentraeger/
LOCATION:Gasthaus Hirsch/Traxler\, Hauptplatz 20\, Groß Gerungs\, NÖ\, 3920\, Österreich
CATEGORIES:2018 Archiv KK,Kabarett und Konzerte
ATTACH;FMTTYPE=image/jpeg:https://www.willkommeningerungs.at/vvs/wp-content/uploads/2019/08/JoesiProkopetzcGary-Milano.jpg
END:VEVENT
BEGIN:VEVENT
DTSTART;TZID=Europe/Berlin:20180427T200000
DTEND;TZID=Europe/Berlin:20180427T200000
DTSTAMP:20260424T131856
CREATED:20190816T092002Z
LAST-MODIFIED:20190927T065951Z
UID:10000205-1524859200-1524859200@www.willkommeningerungs.at
SUMMARY:Querbeet - Kammermusikensemble
DESCRIPTION:Konzert mit Ensemble Querbeet\nFreitag\, 27. April 2018 um 20 Uhr im Gh Hirsch/Traxler \nCoverfoto: Pressefoto Querbeet \nDas Kammermusikensemble – Querbeet – aus Buxtehude bei Hamburg begibt sich auf eine Reise nach Niederösterreich und hat im musikalischen Gepäck \n– Musik ohne Grenzen – \nPräsentiert werden Stücke aus Klassik\, Barock\, Traditionell und aktuelle Instrumentalstücke von Dowland\, Pucell\, Vivaldi\, David Orlowski\, Coldplay und viele mehr. \nDie 11 Freizeit – Musiker und Musikerinnen mit Mandoline\, Mandola\, Gambe\, Gitarre\, Klarinette\, verschiedene Flöten und Kontrabass\, unter der Leitung von Jochen Roß mit Unterstützung durch Jochen Schwart\, möchten Sie an diesem abwechslungsreichen Abend auf eine musikalische Reise um die Welt und in die verschiedenen Musikstile mitnehmen. \nEintritt: Ö-Ticket € 10\,–\, Abendkassa € 12\,– \n> Querbeet Kammermusikensemble – Flyer \n\n		\n		\n			\n				\n			\n			\n				\n			\n			\n				\n			\n			\n				\n			\n			\n				\n			\n		\n\nFotos: Herbert Steininger \n  \n  \n 
URL:https://www.willkommeningerungs.at/event/querbeet-kammermusikensemble/
LOCATION:Gasthaus Hirsch/Traxler\, Hauptplatz 20\, Groß Gerungs\, NÖ\, 3920\, Österreich
CATEGORIES:2018 Archiv KK,Kabarett und Konzerte
ATTACH;FMTTYPE=image/jpeg:https://www.willkommeningerungs.at/vvs/wp-content/uploads/2019/08/Querbeet_Kammermusikensemble_Cover_27042018.jpg
END:VEVENT
BEGIN:VEVENT
DTSTART;TZID=Europe/Berlin:20170520T200000
DTEND;TZID=Europe/Berlin:20170520T200000
DTSTAMP:20260424T131856
CREATED:20190816T114659Z
LAST-MODIFIED:20190927T070027Z
UID:10000208-1495310400-1495310400@www.willkommeningerungs.at
SUMMARY:Stört's - Konzert
DESCRIPTION:Stört’s – Konzert am Sa. 20. Mai 2017\, um 20 Uhr im Gasthaus Hirsch\, Inh. Traxler \nStört’s\nist keine jazzcombo\nist keine rockband\nsind keine popstars\nist nicht volxmusik\nist keine brassband\nsind keine bluesmen\nist nicht klassik\nist nicht rock’n’roll\nsind keine bigband\nist erfrischend alt\nin neuem g‘wand\nstört’s? \nVier Musiker aus dem Waldviertel versuchen ihre Erfahrung aus reiner Lust am Musizieren zu einem gemeinsamen Repertoire zusammenzufügen das so unterschiedlich und abwechslungsreich ist\, wie die musikalischen Welten aus denen jeder Einzelne kommt. Die Welt des Jazz und der lateinamerikanischen Musik\, Blues\, Pop\, Rock\, bis hin zu Eigenkompositionen erscheinen in neuem Zusammenklang und nie gehörten Arrangements. \nSchon alleine die Instrumentierung mit Saxophon bzw. Klarinette (Christian Renk)\, diatonischer Harmonika (Mischa Niemann)\, Tuba (Sepp Koppensteiner)\, und Schlagzeug (Ron Kienast) garantiert ein frisches unverbrauchtes Klangbild. \n> Stoert’s Konzert – Flyer \nKarten: Vorverkauf an den Ö-Ticket-Verkaufsstellen (Banken\, Trafiken\, Libro\, Mediamärkte\, etc.): € 13\,–\, Abendkassa: € 15\,– \n\n		\n		\n			\n				\n			\n			\n				\n			\n			\n				\n			\n			\n				\n			\n			\n				\n			\n			\n				\n			\n			\n				\n			\n			\n				\n			\n		\n\nFotos: Ulrike Gaderer \n  \n 
URL:https://www.willkommeningerungs.at/event/stoerts-konzert/
LOCATION:Gasthaus Hirsch/Traxler\, Hauptplatz 20\, Groß Gerungs\, NÖ\, 3920\, Österreich
CATEGORIES:2017 Archiv KK,Kabarett und Konzerte
ATTACH;FMTTYPE=image/jpeg:https://www.willkommeningerungs.at/vvs/wp-content/uploads/2019/08/Stoerts_Cover_20052017.jpg
END:VEVENT
BEGIN:VEVENT
DTSTART;TZID=Europe/Berlin:20170318T200000
DTEND;TZID=Europe/Berlin:20170318T200000
DTSTAMP:20260424T131856
CREATED:20190816T114939Z
LAST-MODIFIED:20190927T070038Z
UID:10000209-1489867200-1489867200@www.willkommeningerungs.at
SUMMARY:Vierkanter - OHRakel a cappella kabarett
DESCRIPTION:Die Vierkanter – „OHRakel – vokale Prophezeiungen“ \nSa. 18. März 2017\, 20 Uhr\, Gasthaus Hirsch \nVage Andeutungen\, undurchdringlicher Schleier… doch allmählich\, noch kryptisch und schemenhaft\, wird es deutlich hörbar und sichtbar… das geheimnisvoll anmutende\, brandneue 7. Programm der VIERKANTER. \nAls eine der erfolgreichsten A cappella Formationen Österreichs haben Stefan Rußmayer\, Leo und Alois Röcklinger und Martin Pfeiffer aber auch allerhand zu ohrakeln und zu deuten: \nWas ist so positiv an einem Stau? Warum hat auch die Klimaerwärmung ihr Gutes? Leben Verheiratete länger oder kommt ihnen das nur so vor? Dürfen Vegetarier Schmetterlinge im Bauch haben? Warum ist nie besetzt\, wenn man die falsche Nummer wählt? Warum musste Noah unbedingt die Gelsen retten? \nDie vier Freunde lüften in vokalen Prophezeiungen die Antworten zu Ihren geheimsten Fragen\, lesen aus Speisekarten und weissingen ähm weissagen bis ins kleinste Detail\, so wie man das eben von einem OHRakel (und den Vierkantern) erwarten kann! \nEingebettet in eine geniale Musik- und Lichtshow dürfen sich alle\, die zum OHRakel pilgern\, freuen und vielleicht sogar die eine oder andere Frage eben diesem stellen. Die Antwort kommt im 4-stimmigen a cappella Sound\, von Pop bis Schlager\, mit viel Humor und jede Menge Augenzwinkern. \nAber Vorsicht: niemand weiß\, was passiert\, wenn man sich 2x halbtot lacht…außer das OHRakel\, aber darauf sollte man es ankommen lassen! \n> Vierkanter – Flyer 2017 \nKarten: Vorverkauf: € 17\,– über Ö-Ticketverkaufsstellen (Banken\, Trafiken\, Libro\, Mediamärkte\, etc.)\, Abendkassa: € 19\,– \nMehr:\nwww.vierkanter.at \n\n		\n		\n			\n				\n			\n			\n				\n			\n			\n				\n			\n			\n				\n			\n			\n				\n			\n			\n				\n			\n			\n				\n			\n			\n				\n			\n			\n				\n			\n			\n				\n			\n		\n\nFotos: Herbert Steininger \n  \n  \n 
URL:https://www.willkommeningerungs.at/event/vierkanter-ohrakel-a-cappella-kabarett/
LOCATION:Gasthaus Hirsch/Traxler\, Hauptplatz 20\, Groß Gerungs\, NÖ\, 3920\, Österreich
CATEGORIES:2017 Archiv KK,Kabarett und Konzerte
ATTACH;FMTTYPE=image/jpeg:https://www.willkommeningerungs.at/vvs/wp-content/uploads/2019/08/Vierkanter_OHRakel_Cover18032017.jpg
END:VEVENT
END:VCALENDAR