BEGIN:VCALENDAR
VERSION:2.0
PRODID:-//willkommeningerungs - ECPv6.15.17.1//NONSGML v1.0//EN
CALSCALE:GREGORIAN
METHOD:PUBLISH
X-ORIGINAL-URL:https://www.willkommeningerungs.at
X-WR-CALDESC:Veranstaltungen für willkommeningerungs
REFRESH-INTERVAL;VALUE=DURATION:PT1H
X-Robots-Tag:noindex
X-PUBLISHED-TTL:PT1H
BEGIN:VTIMEZONE
TZID:Europe/Berlin
BEGIN:DAYLIGHT
TZOFFSETFROM:+0100
TZOFFSETTO:+0200
TZNAME:CEST
DTSTART:20220327T010000
END:DAYLIGHT
BEGIN:STANDARD
TZOFFSETFROM:+0200
TZOFFSETTO:+0100
TZNAME:CET
DTSTART:20221030T010000
END:STANDARD
BEGIN:DAYLIGHT
TZOFFSETFROM:+0100
TZOFFSETTO:+0200
TZNAME:CEST
DTSTART:20230326T010000
END:DAYLIGHT
BEGIN:STANDARD
TZOFFSETFROM:+0200
TZOFFSETTO:+0100
TZNAME:CET
DTSTART:20231029T010000
END:STANDARD
BEGIN:DAYLIGHT
TZOFFSETFROM:+0100
TZOFFSETTO:+0200
TZNAME:CEST
DTSTART:20240331T010000
END:DAYLIGHT
BEGIN:STANDARD
TZOFFSETFROM:+0200
TZOFFSETTO:+0100
TZNAME:CET
DTSTART:20241027T010000
END:STANDARD
END:VTIMEZONE
BEGIN:VEVENT
DTSTART;TZID=Europe/Berlin:20230908T193000
DTEND;TZID=Europe/Berlin:20230908T193000
DTSTAMP:20260421T234521
CREATED:20230921T150725Z
LAST-MODIFIED:20231008T073708Z
UID:10000329-1694201400-1694201400@www.willkommeningerungs.at
SUMMARY:NöART-Ausstellung „UNSER LAND“
DESCRIPTION:Zeitgenössische Fotografie \nDie Ausstellung zeitgenössischer Fotografie zeigt ausschnitthaft die verschiedenen Realitäten des Österreichs von heute: hinsichtlich der hier ansässigen Menschen und ihren unterschiedlichen Lebensweisen\, aber auch der Regionen und Landschaften. \nNicht die Sicht der Touristenwerbung und Heimatsendungen wer \nden dargestellt\, sondern die vielfältigen Facetten des Lebens im heutigen Österreich: „Jaga“ wie Simon Lehner sie dokumentiert gehen aus ganz anderen Gründen als die Paintballspieler von Rudolf Strobl in den Wald. Ekaterina Sevrouk\, portraitiert Menschen in ihrer neuen Heimat in einem idyllischen\, an die Romantik erinnernden Setting. Aber auch problematischere Bereiche wie Eingriffe in die Landschaft durch den Fremdenverkehr werden durch Andrew Phelps\, Birgit Sattlecker und Michael Goldgruber angesprochen\, während Nadine Weixler\, Reinhart Mlineritsch und Motahar Amiri Dokumente unseres Lebens\, unseres Landes im Fokus haben. \nAusstellende Künstler: Thomas Albdorf\, Motahar Amiri\, Michael Goldgruber\, Kurt Kaindl\, Simon Lehner\, Reinhart Mlineritsch\, Katharina Moser\, Andrew Phelps\, Birgit Sattlecker\, Ekaterina Sevrouk\, Rudolf Strobl\, Nadine Weixler\, \nKonzept und Kuratierung: Hermann H. Capor \nwww.noeart.at \nVernissage:\nFreitag\, 8. September 2023\,19.30 Uhr\nAltes Rathaus\nHauptplatz 88\n3920 Groß Gerungs \nMusikalische Umrahmung:\n„Musik\, die malerische Magie“\nSchülerinnen der Querflötenklasse Krassimira Kerezova\nKlavierbegleitung: Gottfried Rainel \nÖffnungszeiten der Ausstellung:\njeweils Samstag und Sonntag 9.\, 10. und 16.\, 17. September 2023\nvon 10 – 12 Uhr und 14 – 16 Uhr. \nPlakat: \nEinladung: \n\n		\n		\n			\n				\n			\n			\n				\n			\n			\n				\n			\n			\n				\n			\n			\n				\n			\n			\n				\n			\n			\n				\n			\n			\n				\n			\n		\n\n  \nFotos: Liane Schuster
URL:https://www.willkommeningerungs.at/event/noeart-ausstellung-unser-land/
LOCATION:Kunst im Alten Rathaus\, Hauptplatz 88\, Groß Gerungs\, NÖ\, 3920\, Österreich
CATEGORIES:2023 Archiv KGA,Kunst, Galerie, Ausstellungen
ATTACH;FMTTYPE=image/jpeg:https://www.willkommeningerungs.at/vvs/wp-content/uploads/2022/11/2023_09_Ausstellung_Sevrouk_1.jpg
END:VEVENT
END:VCALENDAR