BEGIN:VCALENDAR
VERSION:2.0
PRODID:-//willkommeningerungs - ECPv6.15.17.1//NONSGML v1.0//EN
CALSCALE:GREGORIAN
METHOD:PUBLISH
X-WR-CALNAME:willkommeningerungs
X-ORIGINAL-URL:https://www.willkommeningerungs.at
X-WR-CALDESC:Veranstaltungen für willkommeningerungs
REFRESH-INTERVAL;VALUE=DURATION:PT1H
X-Robots-Tag:noindex
X-PUBLISHED-TTL:PT1H
BEGIN:VTIMEZONE
TZID:Europe/Berlin
BEGIN:DAYLIGHT
TZOFFSETFROM:+0100
TZOFFSETTO:+0200
TZNAME:CEST
DTSTART:20160327T010000
END:DAYLIGHT
BEGIN:STANDARD
TZOFFSETFROM:+0200
TZOFFSETTO:+0100
TZNAME:CET
DTSTART:20161030T010000
END:STANDARD
BEGIN:DAYLIGHT
TZOFFSETFROM:+0100
TZOFFSETTO:+0200
TZNAME:CEST
DTSTART:20170326T010000
END:DAYLIGHT
BEGIN:STANDARD
TZOFFSETFROM:+0200
TZOFFSETTO:+0100
TZNAME:CET
DTSTART:20171029T010000
END:STANDARD
BEGIN:DAYLIGHT
TZOFFSETFROM:+0100
TZOFFSETTO:+0200
TZNAME:CEST
DTSTART:20180325T010000
END:DAYLIGHT
BEGIN:STANDARD
TZOFFSETFROM:+0200
TZOFFSETTO:+0100
TZNAME:CET
DTSTART:20181028T010000
END:STANDARD
END:VTIMEZONE
BEGIN:VEVENT
DTSTART;TZID=Europe/Berlin:20170324T193000
DTEND;TZID=Europe/Berlin:20170324T193000
DTSTAMP:20260422T212456
CREATED:20190816T135225Z
LAST-MODIFIED:20190924T072054Z
UID:10000144-1490383800-1490383800@www.willkommeningerungs.at
SUMMARY:Ausstellung Renate Amon "Kunst-Dolmetsch-Natur"
DESCRIPTION:Ausstellung „Kunst – Dolmetsch – Natur“ von Renate Amon \nDie als Wohnraumgestalterin und Dekorateurin ausgebildete Künstlerin lebt und arbeitet in Schloss Rosenau. \nIn ihren neuen Werken „Innovation Holzbilder“ –Impressionen Waldviertel\, thematisiert sie die Schöpfung der Natur\, den Trieb als Mensch einzigartig zu sein.\nAlle Blätter eines Baumes sind nur Blätter des gleichen Baumes. Legt man sie übereinander\, so ist jedes anders /alle sind gleich – alle sind verschieden. \nOberflächen\, Formen und Farben umrahmen das Wesentliche zum ganzen Werk spürbar und greifbar. Mithilfe von Acrylfarben\, Pigmenten von Marmormehl\, Struktur Leinöl\, Holz\, Rost\, Metall\, Licht\, alten Schriften und Papier versucht sie so\, dreidimensionale Räume sowie die Zeit in den Werken greifbar und spürbar zu machen\, um so den Betrachter auf die Tiefen und Schönheiten der Schöpfung aufmerksam zu machen\, von der wir alle ein Teil sind. \nVernissage:\nFreitag\, 24. März 2017 um 19.30 Uhr im Alten Rathaus \nÖffnungszeiten der Ausstellung:\n25.\, 26. März und 1.\, 2. April 2017\njeweils von 9 – 12 Uhr und 14 – 17 Uhr \n> Renate Amon „Kunst – Dolmetsch – Natur“ Folder/Flyer \nMehr:\nwww.renate-amon.at \nFotos von der Vernissage: \n\n		\n		\n			\n				\n			\n			\n				\n			\n			\n				\n			\n			\n				\n			\n			\n				\n			\n			\n				\n			\n			\n				\n			\n			\n				\n			\n			\n				\n			\n			\n				\n			\n			\n				\n			\n			\n				\n			\n			\n				\n			\n			\n				\n			\n		\n\nFotos: Fritz Gundacker und STR Liane Schuster \n 
URL:https://www.willkommeningerungs.at/event/ausstellung-renate-amon-kunst-dolmetsch-natur/
LOCATION:Kunst im Alten Rathaus\, Hauptplatz 88\, Groß Gerungs\, NÖ\, 3920\, Österreich
CATEGORIES:2017 Archiv KGA,Kunst, Galerie, Ausstellungen
ATTACH;FMTTYPE=image/jpeg:https://www.willkommeningerungs.at/vvs/wp-content/uploads/2019/08/RenateAmon_Ausstellung_Cover.jpg
END:VEVENT
END:VCALENDAR